BEGIN:VCALENDAR
VERSION:2.0
PRODID:-//Eventos RH - ECPv6.3.3.1//NONSGML v1.0//EN
CALSCALE:GREGORIAN
METHOD:PUBLISH
X-ORIGINAL-URL:https://www.eventosrh.com.br
X-WR-CALDESC:Eventos para Eventos RH
REFRESH-INTERVAL;VALUE=DURATION:PT1H
X-Robots-Tag:noindex
X-PUBLISHED-TTL:PT1H
BEGIN:VTIMEZONE
TZID:America/Sao_Paulo
BEGIN:STANDARD
TZOFFSETFROM:-0300
TZOFFSETTO:-0300
TZNAME:-03
DTSTART:20240101T000000
END:STANDARD
END:VTIMEZONE
BEGIN:VEVENT
DTSTART;VALUE=DATE:20240411
DTEND;VALUE=DATE:20240413
DTSTAMP:20260422T130157
CREATED:20240202T175035Z
LAST-MODIFIED:20240202T175035Z
UID:23054-1712793600-1712966399@www.eventosrh.com.br
SUMMARY:Liderança Operacional e de Chão de Fábrica (online e ao vivo)
DESCRIPTION:CURSO DE LIDERANÇA OPERACIONAL E DE CHÃO DE FÁBRICA\nDesenvolva sua capacidade de gestão de pessoas e extraia os melhores resultados da sua equipe.Este curso é focado em ajudar novos líderes de equipes operacionais a desenvolverem competências comportamentais que são fundamentais para uma boa gestão de pessoas\, como inteligência emocional\, comunicação e gestão de conflitos. \nO curso ajuda estes profissionais a terem sucesso neste momento de transição e crescimento de carreira\, em que precisam deixar de ser apenas “excelentes técnicos ou especialistas” para se tornarem também ótimos líderes\, capazes de gerir sua equipe e alcançar excelentes resultados através dela. \n\nINSCRIÇÕES ABERTAS!\nLocal: Via Plataforma Zoom (ao vivo)\nData: 11 e 12 de abril de 2024\nHorário: das 09h00 às 11h30\nCarga horária: Total de 5 horas\nInvestimento: R$ 480\,00 (até 6x sem juros) \nMais informações: \n\nted@eventosrh.com.br \n\n(16) 99614-1269 [Whatsapp] \nQUERO FAZER MINHA INSCRIÇÃOO QUE VOCÊ VAI APRENDER NESTE CURSO: \n\nQual o seu papel e as suas responsabilidades como líder; \n\n\nA importância do autoconhecimento e da inteligência emocional; \n\nComo ter uma comunicação assertiva com colegas\, pares e subordinados; \n\nQuais os diferentes estilos de liderança e quando adotá-los; \n\nO que é e quais são os impactos do assédio moral e sexual; \n\nDicas práticas para a gestão de conflitos na equipe. \nBENEFÍCIOS EXCLUSIVOSINTERAÇÃO COM O ESPECIALISTA \nEsclareça todas as suas dúvidas ao vivo. TROCA DE EXPERIÊNCIAS \nOportunidade de interação entre os participantes (grupo seleto de empresas). TURMAS EXCLUSIVAS \nMáximo de 20 pessoas por turma para um melhor aproveitamento. TOTAL FLEXIBILIDADE \nAssista ao vivo\, do computador\, celular ou tablet. MATERIAL DE APOIO E CERTIFICADO \nReceba o material (em pdf) com os principais conteúdos do curso e o Certificado de Conclusão no formato digital. CONTEÚDO PROGRAMÁTICOO que são equipes operacionais?\n\nQual o papel e quais são as responsabilidades do líder\nCompetências necessárias ao líder\nComportamentos requeridos ao líder\nA prática dos comportamentos\, com foco em resultado\n\nInteligência Emocional\n\nAs quatro áreas da Inteligência Emocional\nOs comportamentos-chave associados a cada área\n\nAssertividade\n\nO conceito e os quatro tipos de comportamentos\nComo me tornar assertivo?\n\nAssédio Moral\n\nO que é\, legislação vigente e as consequências\nIndenizações por Assédio Moral\n\nAssédio Sexual\n\nO que é\, como comprová-lo e o que fazer?\nImplicações do Assédio Sexual\n\nComunicação\n\nO processo de comunicação na liderança de equipe\nSaber ouvir\n\nEstilos de liderança\n\nQuais são os seis estilos de liderança e como usá-los\n\nGestão de conflitos\n\nO que é gestão de conflito e como lidar\n\nSOBRE O INSTRUTORRicardo Amaral\nEspecialista em Desenvolvimento Organizacional\, com certificação internacional em Life & Executive Coaching pelo Integrated Coaching Institute. \nPossui mais de 30 anos de carreira na indústria química e agrícola\, em que iniciou como supervisor de turno na DOW até chegar à Executivo de RH na Votorantim Agroindústria. \nÉ fundador e sócio diretor da Ferraz do Amaral Consultores Associados e atualmente dedica-se a atividades de consultoria e coaching executivo. \nDEPOIMENTOS\nMuito interessante e agregador. Boa atuação e didática. \n\nExcelente curso. E me ajudou a ampliar minhas visões sobre muitos temas. Ricardo é ótimo na oratória e muito claro nas colocações. \n\nAs questões sobre Inteligência Emocional e Assertividade foram de extrema valia. Ótimo palestrante! \n\nMuito bom! Abre nossa visão com temas que vivenciamos no nosso dia a dia\, orientando e mostrando de maneira fácil e clara como agir como líder de nossa equipe. \n\nFoi de grande ajuda todo o conteúdo apresentado e vou buscar aplicá-los da melhor maneira. \n\nMuito bom\, vale a pena o investimento. \nINVESTIMENTO:R$ 480\,00 por participante.\nFormas de Pagamento: \nPessoa Jurídica: Boleto bancário\, depósito em conta corrente\, cartão de débito ou crédito (em até 6x sem juros). \nPessoa Física: Depósito em conta corrente / pix\, cartão de débito ou crédito (em até 6x sem juros). \n(*) Pagamento parcelado apenas através de cartão de crédito. \nPRINCIPAIS DÚVIDAS:Para quem é este curso de Liderança Operacional?\nEste curso é ideal para novos líderes que\, apesar de apresenterem excelência técnica\, sentem que precisam desenvolver suas habilidades (comportamentais) em gestão de pessoas. \nOu\, ainda\, profissionais que desejam assumir uma posição de liderança como próximo passo de carreira e querem estar melhor preparados para o desafio (além de demonstrar esta capacidade para sua equipe e chefia). \nComo funciona o acesso ao curso?\nO curso será 100% online e ao vivo\, e será transmitido pela plataforma Zoom. Para acessá-lo\, basta ter uma boa conexão com a internet e ter um computador (com microfone)\, celular (smartphone) ou tablet. \nApós a sua inscrição e pagamento do curso\, você receberá um email com o link de acesso ao curso via plataforma Zoom e com todas as instruções. No dia do curso\, você também poderá contar com nosso apoio por email\, telefone ou whats app caso tenha alguma dificuldade técnica. \nO curso fica disponível por quanto tempo?\nO curso de Liderança Operacional será online e ao vivo e não ficará gravado. Ou seja\, ficará disponível somente durante a transmissão ao vivo no dia do curso. \nDepois disso\, você poderá consultar o conteúdo do curso no material de apoio (em pdf)\, que será disponibilizado para você por email. O material de apoio ficará disponível para download e você poderá acessá-lo sempre e quantas vezes desejar. \nComo funciona o pagamento do curso?\nO valor de investimento por participante para o curso será de R$ 480\,00\, nas seguintes condições de pagamento: \nPessoa Jurídica: Boleto bancário\, depósito em conta corrente\, cartão de débito ou crédito (em até 6x sem juros). \nPessoa Física: Depósito em conta corrente\, cartão de débito ou crédito (em até 6x sem juros). \n(*) Pagamento parcelado apenas através de cartão de crédito. \nO que está incluído neste curso?\nNa compra do curso de Liderança você terá: \n\n4 horas de curso online e ao vivo pela plataforma Zoom\, em que você poderá esclarecer as suas dúvidas e interagir com as demais empresas e profissionais participantes;\nVocê receberá por email um material digital de apoio (em pdf) com os principais conteúdos\, que poderá ser acessado sempre e quando precisar;\nCertificado digital de conclusão do curso.\n\nQUERO PARTICIPAR DESTE CURSOPRINCIPAIS CLIENTES:
URL:https://www.eventosrh.com.br/ted-agenda/lideranca-operacional-e-de-chao-de-fabrica-online-e-ao-vivo/
LOCATION:ON LINE\, Plataforma Zoom (ao vivo)
CATEGORIES:Liderança,Recursos Humanos
END:VEVENT
END:VCALENDAR