BEGIN:VCALENDAR
VERSION:2.0
PRODID:-//Eventos RH - ECPv6.3.3.1//NONSGML v1.0//EN
CALSCALE:GREGORIAN
METHOD:PUBLISH
X-ORIGINAL-URL:https://www.eventosrh.com.br
X-WR-CALDESC:Eventos para Eventos RH
REFRESH-INTERVAL;VALUE=DURATION:PT1H
X-Robots-Tag:noindex
X-PUBLISHED-TTL:PT1H
BEGIN:VTIMEZONE
TZID:America/Sao_Paulo
BEGIN:STANDARD
TZOFFSETFROM:-0300
TZOFFSETTO:-0300
TZNAME:-03
DTSTART:20230101T000000
END:STANDARD
END:VTIMEZONE
BEGIN:VEVENT
DTSTART;VALUE=DATE:20231025
DTEND;VALUE=DATE:20231026
DTSTAMP:20260422T091451
CREATED:20230918T175413Z
LAST-MODIFIED:20230920T181631Z
UID:22868-1698192000-1698278399@www.eventosrh.com.br
SUMMARY:Curso de Preposto Trabalhista
DESCRIPTION:CURSO DE PREPOSTO TRABALHISTA\nCapacitando Prepostos Sobre Como se Preparar e Agir em Audiências TrabalhistasA atuação do preposto nas audiências trabalhistas é elemento chave para obtenção de sucesso nas demandas\, tão ou mais importante que as peças processuais\, inclusive a própria contestação. \nEste curso tem o objetivo de preparar os prepostos (representantes legais da empresa) para o ato da audiência trabalhista\, bem como\, orientar das obrigações que antecedem e sucedem às audiências. \nO participante terá importantes instruções de como deve agir e quais são os principais erros cometidos por prepostos. No início do curso haverá apresentação dos pontos jurídicos teóricos relevantes para a compreensão do tema\, e na segunda parte do curso serão feitas simulações práticas com os participantes. \nO curso é ideal para Profissionais de RH\, advogados trabalhistas e gerentes de outras áreas que direta ou indiretamente atuam como representantes legais da empresa perante a Justiça do Trabalho em processos trabalhistas. \nO curso tem uma abordagem eminentemente prática\, inclusive com a simulação de situações reais comuns em audiências\, focando nos principais erros cometidos pelos prepostos em audiências\, cruciais nos resultados dos processos. \n\nINSCRIÇÕES ABERTAS – CURSO PRESENCIAL\nLocal: sede da Eventos RH – Rua São José\, 2055 – Jd. Sumaré\, Ribeirão Preto/SP\nData: 25 de outubro de 2023\nHorário: das 08h30 às 17h30\nCarga horária: 08 horas\nInvestimento: R$ 800\,00 \nMais informações: \nted@eventosrh.com.br16 99614-1269 [Whatsapp]QUERO FAZER MINHA INSCRIÇÃOCONTEÚDO PROGRAMÁTICO – O QUE VOCÊ VAI APRENDER NESTE CURSO: \nA importância do Preposto no Processo Trabalhista \n\nAtividade do Preposto anteriores a audiência \nCompetência da Justiça do Trabalho: que demandas podem ser submetidas à apreciação dessa Justiça especializada\nRequisitos do preposto: quem pode ser preposto \n\nComportamento e Atitude do Preposto em Audiência \n\nO “jus postulandi” na Justiça do Trabalho \n\nOs requerimentos formulados em audiência pelo preposto e a figura do protesto\, evitando a preclusão do direito \n\nAtividades do Preposto posteriores a audiência \n\nPrecauções do Preposto que ajudam a empresa \n\nModalidades de Audiência \n\nA ordem dos acontecimentos na audiência \n\nProvas x indícios \n\nProva na Justiça do Trabalho: o que serve de prova e como a prova deve ser apresentada \n\nAspectos jurídicos sobre as provas \n\nMomento da apresentação da prova \n\nOitiva do preposto \n\nTestemunhas: quem pode ser testemunha\, formulação do pedido de contradita\, julgamento da contradita\, testemunhas suspeitas\, impedidas e incapazes\, etc. \n\nAcareação \n\nSimulações práticas de audiências \n\nApresentação especial: Assédio sexual e assédio moral \nBENEFÍCIOS EXCLUSIVOS:TROCA DE EXPERIÊNCIAS \nOportunidade de interação com profissionais de conceituadas empresas de diferentes portes e ramos de atividades\, com intervalos estratégicos para networking (com coffee break). TURMAS “ENXUTAS” \nMáximo de 15 pessoas por turma para uma melhor interação com o instrutor e entre os participantes. MATERIAL DE APOIO E CERTIFICADO \nO curso inclui material de apoio com apostila e certificado de participação. SOBRE O INSTRUTOR:Dr. José Ricardo Sabino Vieira\nAdvogado Trabalhista. Mestre pela Universidade de São Paulo – USP. Consultor Jurídico Trabalhista Empresarial. Professor universitário do curso de Direito do Trabalho. Professor de Pós Graduação de Direito do Trabalho. Autor de vários artigos jurídicos publicados. Experiência há mais de 25 anos em audiências trabalhistas e sustentação oral em tribunais. Gestor Jurídico na área trabalhista\, liderando advogados na prestação de serviços jurídico contencioso / consultoria empresarial. Assessoria jurídica direta na área de Recursos Humanos. \nINVESTIMENTO:R$ 800\,00 por participante.\nFormas de Pagamento: \nPessoa Jurídica: Boleto bancário\, depósito em conta corrente\, cartão de débito ou crédito (em até 6x sem juros). \nPessoa Física: Depósito em conta corrente /pix\, cartão de débito ou crédito (em até 6x sem juros). \n(*) Pagamento parcelado apenas através de cartão de crédito. \nPRINCIPAIS DÚVIDAS:Para quem é este curso de preposto trabalhista?\nEste curso é voltado para profissionais da área de RH\, advogados trabalhistas\, gerentes de outras áreas da empresa que direta e indiretamente atuam como representantes legais da empresa perante a Justiça do Trabalho em processos trabalhistas\, interessados em melhorar o seu desempenho e performance para obtenção de eficientes resultados para suas empresas em situações de reclamações trabalhistas. \nQual a carga horária?\nCurso presencial com carga horária de 08 horas / aula. Será realizado das 08h30 às 17h30\, como 01h30 de intervalo para almoço. \nInclui coffee break no período da manhã e à tarde. \nOnde será realizado o treinamento?\nO curso será realizado na sede da Eventos RH: Rua São José\, 2055 – Jardim Sumaré – Ribeirão Preto-SP.  \nComo funciona o pagamento do curso?\nO valor de investimento por participante para o curso será de R$ 800\,00\, nas seguintes condições de pagamento: \nPessoa Jurídica: Boleto bancário\, depósito em conta corrente\, cartão de débito ou crédito (em até 6x sem juros). \nPessoa Física: Depósito em conta corrente\, cartão de débito ou crédito (em até 6x sem juros). \n(*) Pagamento parcelado apenas através de cartão de crédito. \nO que está incluído neste curso?\nNo valor da inscrição estão incluídos: \n\nCompleto material de apoio com apostila;\nCoffee break;\nCertificado de participação.\n\nQUERO FAZER MINHA INSCRIÇÃOPRINCIPAIS CLIENTES:
URL:https://www.eventosrh.com.br/ted-agenda/curso-de-preposto-trabalhista/
LOCATION:PRESENCIAL\, Ribeirão Preto\, SP\, Brasil
CATEGORIES:Recursos Humanos
END:VEVENT
END:VCALENDAR