BEGIN:VCALENDAR
VERSION:2.0
PRODID:-//Eventos RH - ECPv6.3.3.1//NONSGML v1.0//EN
CALSCALE:GREGORIAN
METHOD:PUBLISH
X-WR-CALNAME:Eventos RH
X-ORIGINAL-URL:https://www.eventosrh.com.br
X-WR-CALDESC:Eventos para Eventos RH
REFRESH-INTERVAL;VALUE=DURATION:PT1H
X-Robots-Tag:noindex
X-PUBLISHED-TTL:PT1H
BEGIN:VTIMEZONE
TZID:America/Sao_Paulo
BEGIN:STANDARD
TZOFFSETFROM:-0300
TZOFFSETTO:-0300
TZNAME:-03
DTSTART:20250101T000000
END:STANDARD
END:VTIMEZONE
BEGIN:VEVENT
DTSTART;VALUE=DATE:20250313
DTEND;VALUE=DATE:20250314
DTSTAMP:20260422T102710
CREATED:20240118T121431Z
LAST-MODIFIED:20250131T220239Z
UID:22976-1741824000-1741910399@www.eventosrh.com.br
SUMMARY:Técnicas de Recrutamento e Seleção (presencial)
DESCRIPTION:[CURSO] TÉCNICAS DE RECRUTAMENTO E SELEÇÃO\nO passo a passo para um Recrutamento e Seleção com técnica e profissionalismo para acertar nas contrataçõesEste curso tem como objetivo capacitar profissionais de Recursos Humanos para conduzir processos de Recrutamento e Seleção de forma profissional e assertiva\, baseado nas mais modernas técnicas de mercado e cases de sucesso. \nNele\, detalhamos o passo a passo de um processo de R&S\, desde a abertura da vaga até a sua finalização\, mostrando a metodologia utilizada pela Eventos RH\, que realiza mais de 3.000 contratações anuais\, de diversas áreas e níveis hierárquicos\, de empresas nacionais e multinacionais. \nO curso é ideal para profissionais iniciantes na área de Recursos Humanos\, que desejam adquirir ou aperfeiçoar as suas técnicas em Recrutamento e Seleção de Pessoal. \nCurso presencial com apresentação teórica\, exercícios práticos\, dinâmicas e relatos de experiências para enriquecer o aprendizado. \nINSCRIÇÕES ABERTAS! Curso Presencial.Local: RIBEIRÃO PRETO-SP | Sede da Eventos RHData: 13 de março de 2025Horário: das 08h30 às 17h30Carga horária: 08 horasInvestimento: R$ 800\,00 \nMais informações: \n\nted@eventosrh.com.br \n\n(16) 99614-1269 [Whatsapp] \nQUERO FAZER MINHA INSCRIÇÃOO QUE VOCÊ VAI APRENDER NESTE CURSO: \nAs formas de contratação e suas vantagens \n\nComo fazer um bom levantamento de perfil \n\nComo montar o cronograma do Processo Seletivo \n\nOs tipos de Recrutamento e quando utilizá-los \n\nTécnicas para triagem de currículos \n\nTécnicas de seleção (entrevistas\, dinâmicas e testes) \n\nProcesso de aprovação e feedback para candidatos \n\nComo realizar processos de forma online/remota \nBENEFÍCIOS EXCLUSIVOSTROCA DE EXPERIÊNCIAS \nOportunidade de interação com profissionais de conceituadas empresas de diferentes portes e ramos de atividades\, com intervalos estratégicos para networking (com coffee break). TURMAS “ENXUTAS” \nMáximo de 15 pessoas por turma para uma melhor interação com a instrutora e entre os participantes. MATERIAL DE APOIO E CERTIFICADO \nO curso inclui material de apoio com apostila e certificado de participação. CONTEÚDO PROGRAMÁTICOFormas / Tipos de contrataçãoLevantamento de Perfil\n– Modelo de Formulário\n– Como montar um Cronograma do Processo Seletivo \nRecrutamento\n– Tipos de Recrutamento (presencial e online)\n– Quais as vantagens e desvantagens de cada tipo\n– Quando utilizar o Hunting\n– O uso da tecnologia / principais ferramentas \nTriagem de currículos\n– Exercício prático de Triagem \nSeleção\n– Tipos de entrevistas\n– Exemplos de dinâmicas\n– Apresentação de testes \nAprovação do selecionadoFeedback aos candidatosSOBRE A INSTRUTORALívia Rissatto\nCoordenadora de R&S na Eventos RH\, especialista em Gestão de Pessoas pela Fundação Getúlio Vargas (FGV) e graduada em Psicologia (bacharelado e licenciatura) pela Universidade Paulista (UNIP). \nExperiência docente em cursos de pós-graduação\, profissionalizantes\, treinamentos e palestras. \nVivência em gestão de áreas relativas à Recursos Humanos\, como recrutamento e seleção\, treinamento e desenvolvimento\, coordenação de programas\, políticas estratégicas\, métodos de trabalho\, normas e procedimentos. \nVasto conhecimento em testes\, dinâmicas e laudos psicológicos e headhunter de vagas estratégicas. \nDEPOIMENTOS\nFoi maravilhoso e completa a distribuição dos temas\, conteúdo interessante e didática ótima!  \n\nAchei que o curso agregou muitas informações ao meu método de trabalho\, mostrando novas formas de realizar as etapas. \n\nDemostraram total domínio quanto ao assunto abordado\, levando o treinamento de forma leve e dinâmica e com abertura para o esclarecimento de todas as dúvidas que surgiram. \n\nSeguras quanto ao assunto\, muito dinâmicas e empáticas. \n\nProfissionais muito qualificadas! \n\nAs consultoras são ótimas\, dinâmicas e sabem transmitir o conhecimento de maneira leve e satisfatória. \n\nConsultoras ótimas\, mentes abertas\, com conhecimento bom. \n\nExcelente profissionais\, competentes e muito simpáticas \n\nCapacitadas\, comunicativas e dinâmicas. \n\nSão ótimas\, passam o conteúdo de forma simples\, consistente\, leve e dinâmica\, gostei bastante. \nINVESTIMENTO:R$ 800\,00 por participante.\nFormas de Pagamento: \nPessoa Jurídica: Boleto bancário\, PIX\, cartão de débito ou de crédito (em até 6x sem juros). \nPessoa Física: PIX\, cartão de débito ou de crédito (em até 6x sem juros). \n(*) Pagamento parcelado apenas através de cartão de crédito. \nPRINCIPAIS DÚVIDAS:Para quem é este curso Técnicas de Recrutamento e Seleção?\nO curso Técnicas de Recrutamento e Seleção é ideal tanto para profissionais iniciantes sem experiência em Recrutamento e Seleção\, como para aqueles que já atuam na área e desejam aprimorar ou revalidar suas técnicas e experiências sobre o tema. \nQual a carga horária?\nCurso presencial com carga horária de 08 horas / aula. Será realizado das 08h30 às 17h30\, como 01h30 de intervalo para almoço. \nInclui coffee break no período da manhã e à tarde. \nOnde será realizado o treinamento?\nO curso será realizado na sede da Eventos RH: Rua São José\, 2055 – Jardim Sumaré – Ribeirão Preto-SP.  \nComo funciona o pagamento do curso?\nO valor de investimento por participante para o curso será de R$ 800\,00\, nas seguintes condições de pagamento: \nPessoa Jurídica: Boleto bancário\, depósito em conta corrente\, cartão de débito ou crédito (em até 6x sem juros). \nPessoa Física: Depósito em conta corrente\, cartão de débito ou crédito (em até 6x sem juros). \n(*) Pagamento parcelado apenas através de cartão de crédito. \nO que está incluído neste curso?\nNo valor da inscrição estão incluídos: \n\nCompleto material de apoio com apostila;\nCoffee break;\nCertificado de participação.\n\nQUERO FAZER MINHA INSCRIÇÃOPRINCIPAIS CLIENTES:
URL:https://www.eventosrh.com.br/ted-agenda/tecnicas-de-recrutamento-e-selecao-presencial/
LOCATION:PRESENCIAL\, Ribeirão Preto\, SP\, Brasil
CATEGORIES:Recursos Humanos
END:VEVENT
BEGIN:VEVENT
DTSTART;VALUE=DATE:20250314
DTEND;VALUE=DATE:20250315
DTSTAMP:20260422T102710
CREATED:20250131T215720Z
LAST-MODIFIED:20250206T135257Z
UID:23298-1741910400-1741996799@www.eventosrh.com.br
SUMMARY:Liderança Operacional e de Chão de Fábrica (presencial)
DESCRIPTION:CURSO DE LIDERANÇA OPERACIONAL E DE CHÃO DE FÁBRICA\nDesenvolva sua capacidade de gestão de pessoas e extraia os melhores resultados da sua equipe.Este curso é focado em ajudar novos líderes de equipes operacionais a desenvolverem competências comportamentais que são fundamentais para uma boa gestão de pessoas\, como inteligência emocional\, comunicação e gestão de conflitos. \nO curso ajuda estes profissionais a terem sucesso neste momento de transição e crescimento de carreira\, em que precisam deixar de ser apenas “excelentes técnicos ou especialistas” para se tornarem também ótimos líderes\, capazes de gerir sua equipe e alcançar excelentes resultados através dela. \n\nINSCRIÇÕES ABERTAS! Curso Presencial.\nLocal: RIBEIRÃO PRETO-SP | Sede da Eventos RH\nData: 14 de março de 2025\nHorário: das 08h30 às 17h30\nCarga horária: Total de 8 horas\nInvestimento: R$ 800\,00  \nMais informações: \n\nted@eventosrh.com.br \n\n(16) 99614-1269 [Whatsapp] \nQUERO FAZER MINHA INSCRIÇÃOO QUE VOCÊ VAI APRENDER NESTE CURSO: \n\nQual o seu papel e as suas responsabilidades como líder; \n\n\nA importância do autoconhecimento e da inteligência emocional; \n\nComo ter uma comunicação assertiva com colegas\, pares e subordinados; \n\nQuais os diferentes estilos de liderança e quando adotá-los; \n\nO que é e quais são os impactos do assédio moral e sexual; \n\nDicas práticas para a gestão de conflitos na equipe. \nBENEFÍCIOS EXCLUSIVOSTROCA DE EXPERIÊNCIAS \nOportunidade de interação com profissionais de conceituadas empresas de diferentes portes e ramos de atividades\, com intervalos estratégicos para networking (com coffee break). TURMAS ENXUTAS \nMáximo de 15 pessoas por turma para uma melhor interação com o instrutor e entre os participantes. MATERIAL DE APOIO E CERTIFICADO \nO curso inclui material de apoio com apostila e certificado de participação. CONTEÚDO PROGRAMÁTICOO que são equipes operacionais?\n\nQual o papel e quais são as responsabilidades do líder\nCompetências necessárias ao líder\nComportamentos requeridos ao líder\nA prática dos comportamentos\, com foco em resultado\n\nInteligência Emocional\n\nAs quatro áreas da Inteligência Emocional\nOs comportamentos-chave associados a cada área\n\nAssertividade\n\nO conceito e os quatro tipos de comportamentos\nComo me tornar assertivo?\n\nAssédio Moral\n\nO que é\, legislação vigente e as consequências\nIndenizações por Assédio Moral\n\nAssédio Sexual\n\nO que é\, como comprová-lo e o que fazer?\nImplicações do Assédio Sexual\n\nComunicação\n\nO processo de comunicação na liderança de equipe\nSaber ouvir\n\nEstilos de liderança\n\nQuais são os seis estilos de liderança e como usá-los\n\nGestão de conflitos\n\nO que é gestão de conflito e como lidar\n\nSOBRE O INSTRUTORRicardo Amaral\nEspecialista em Desenvolvimento Organizacional\, com certificação internacional em Life & Executive Coaching pelo Integrated Coaching Institute. \nPossui mais de 30 anos de carreira na indústria química e agrícola\, em que iniciou como supervisor de turno na DOW até chegar à Executivo de RH na Votorantim Agroindústria. \nÉ fundador e sócio diretor da Ferraz do Amaral Consultores Associados e atualmente dedica-se a atividades de consultoria e coaching executivo. \nDEPOIMENTOS\nMuito interessante e agregador. Boa atuação e didática. \n\nExcelente curso. E me ajudou a ampliar minhas visões sobre muitos temas. Ricardo é ótimo na oratória e muito claro nas colocações. \n\nAs questões sobre Inteligência Emocional e Assertividade foram de extrema valia. Ótimo palestrante! \n\nMuito bom! Abre nossa visão com temas que vivenciamos no nosso dia a dia\, orientando e mostrando de maneira fácil e clara como agir como líder de nossa equipe. \n\nFoi de grande ajuda todo o conteúdo apresentado e vou buscar aplicá-los da melhor maneira. \n\nMuito bom\, vale a pena o investimento. \nINVESTIMENTO:R$ 800\,00 por participante.\nFormas de Pagamento: \nPessoa Jurídica: Boleto bancário\, PIX\, cartão de débito ou de crédito (em até 6x sem juros). \nPessoa Física: PIX\, cartão de débito ou de crédito (em até 6x sem juros). \n(*) Pagamento parcelado apenas através de cartão de crédito. \nPRINCIPAIS DÚVIDAS:Para quem é este curso de Liderança Operacional?\nEste curso é ideal para novos líderes que\, apesar de apresenterem excelência técnica\, sentem que precisam desenvolver suas habilidades (comportamentais) em gestão de pessoas. \nOu\, ainda\, profissionais que desejam assumir uma posição de liderança como próximo passo de carreira e querem estar melhor preparados para o desafio (além de demonstrar esta capacidade para sua equipe e chefia). \nQual a carga horária?\nCurso presencial com carga horária de 08 horas / aula. Será realizado das 08h30 às 17h30\, como 01h30 de intervalo para almoço.\n \nInclui coffee break no período da manhã e à tarde. \nOnde será realizado o treinamento?\nO curso será realizado na sede da Eventos RH: Rua São José\, 2055 – Jardim Sumaré – Ribeirão Preto-SP. \nComo funciona o pagamento do curso?\nINVESTIMENTO:\nR$ 800\,00 por participante. \nFormas de Pagamento: \nPessoa Jurídica: Boleto bancário\, Pix\, depósito em conta corrente\, cartão de débito ou crédito (em até 6x sem juros). \nPessoa Física: Pix\, cartão de débito ou crédito (em até 6x sem juros). \n(*) Pagamento parcelado apenas através de cartão de crédito. \nO que está incluído neste curso?\nNo valor da inscrição estão incluídos: \n\nCompleto material de apoio com apostila;\nCoffee break;\nCertificado de participação.\n\nQUERO PARTICIPAR DESTE CURSOPRINCIPAIS CLIENTES:
URL:https://www.eventosrh.com.br/ted-agenda/lideranca-operacional-e-de-chao-de-fabrica-presencial/
LOCATION:PRESENCIAL\, Ribeirão Preto\, SP\, Brasil
CATEGORIES:Liderança,Recursos Humanos
END:VEVENT
END:VCALENDAR